BEGIN:VCALENDAR
CALSCALE:GREGORIAN
X-WR-TIMEZONE;VALUE=TEXT:GMT
PRODID:PEAK Corporation - piCal -
X-WR-CALNAME;VALUE=TEXT:Kancelář otevřená
VERSION:2.0
METHOD:PUBLISH
BEGIN:VTIMEZONE
TZID:GMT
BEGIN:STANDARD
DTSTART:19390101T000000
TZOFFSETFROM:+0000
TZOFFSETTO:+0000
TZNAME:GMT
END:STANDARD
END:VTIMEZONE
BEGIN:VEVENT
DTSTART:20260212T080000Z
DTEND:20260212T140000Z
LOCATION:Mladá Boleslav
TRANSP:OPAQUE
SEQUENCE:0
UID:pical060-b3e95cd21e1ddd15f33fcf7c3782b195
DTSTAMP:20251218T120614Z
CATEGORIES:
DESCRIPTION:Platba členských příspěvků - 300 Kč\nProdej Celoročních kalendářů - 20 Kč\nProdej zájezdů v hotovosti - legitimace člena nutná\nzálohy na zájezdy v hotovosti\n
SUMMARY:Kancelář otevřená
PRIORITY:0
CLASS:PUBLIC
END:VEVENT
END:VCALENDAR
