BEGIN:VCALENDAR
CALSCALE:GREGORIAN
X-WR-TIMEZONE;VALUE=TEXT:GMT
PRODID:PEAK Corporation - piCal -
X-WR-CALNAME;VALUE=TEXT:Kanárské ostrovy
VERSION:2.0
METHOD:PUBLISH
BEGIN:VTIMEZONE
TZID:GMT
BEGIN:STANDARD
DTSTART:19390101T000000
TZOFFSETFROM:+0000
TZOFFSETTO:+0000
TZNAME:GMT
END:STANDARD
END:VTIMEZONE
BEGIN:VEVENT
DTSTART:20231015T230000Z
DTEND:20231022T230000Z
LOCATION:Tenerife
TRANSP:OPAQUE
SEQUENCE:1
UID:pical060-b81733c1a7c556ee593cbcefe6df4a30
DTSTAMP:20230210T135058Z
CATEGORIES:
DESCRIPTION:Letecký zájezd s polopenzí\nUbytování v hotelu GF Noelia Playa\nzáloha ve výši 50%
SUMMARY:Kanárské ostrovy
PRIORITY:0
CLASS:PUBLIC
END:VEVENT
END:VCALENDAR
