BEGIN:VCALENDAR
CALSCALE:GREGORIAN
X-WR-TIMEZONE;VALUE=TEXT:GMT
PRODID:PEAK Corporation - piCal -
X-WR-CALNAME;VALUE=TEXT:Polsko Wambeřice
VERSION:2.0
METHOD:PUBLISH
BEGIN:VTIMEZONE
TZID:GMT
BEGIN:STANDARD
DTSTART:19390101T000000
TZOFFSETFROM:+0000
TZOFFSETTO:+0000
TZNAME:GMT
END:STANDARD
END:VTIMEZONE
BEGIN:VEVENT
DTSTART:20110511T040000Z
DTEND:20110511T160000Z
LOCATION:Polsko
TRANSP:OPAQUE
SEQUENCE:0
UID:pical060-e7f2ba393926694c5ef063f5477ff084
DTSTAMP:20110506T135640Z
CATEGORIES:
DESCRIPTION:Dopoledne tržiště v Kudově Zdroji, odpoledne Wambeřice s Bazilikou a Křížovou cestou.
SUMMARY:Polsko Wambeřice
PRIORITY:0
CLASS:PUBLIC
END:VEVENT
END:VCALENDAR
