BEGIN:VCALENDAR
CALSCALE:GREGORIAN
X-WR-TIMEZONE;VALUE=TEXT:GMT
PRODID:PEAK Corporation - piCal -
X-WR-CALNAME;VALUE=TEXT:V.Meder 2
VERSION:2.0
METHOD:PUBLISH
BEGIN:VTIMEZONE
TZID:GMT
BEGIN:STANDARD
DTSTART:19390101T000000
TZOFFSETFROM:+0000
TZOFFSETTO:+0000
TZNAME:GMT
END:STANDARD
END:VTIMEZONE
BEGIN:VEVENT
DTSTART:20090509T050000Z
DTEND:20090516T160000Z
LOCATION:V.Meder
TRANSP:OPAQUE
SEQUENCE:0
UID:pical060-2b683863a8d66568088d476d2adcb72d
DTSTAMP:20090424T163239Z
CATEGORIES:
DESCRIPTION:pobyt v termálních lázních
SUMMARY:V.Meder 2
PRIORITY:0
CLASS:PUBLIC
END:VEVENT
END:VCALENDAR
