BEGIN:VCALENDAR
CALSCALE:GREGORIAN
X-WR-TIMEZONE;VALUE=TEXT:GMT
PRODID:PEAK Corporation - piCal -
X-WR-CALNAME;VALUE=TEXT:POŠTA PRO TEBE - ČT
VERSION:2.0
METHOD:PUBLISH
BEGIN:VTIMEZONE
TZID:GMT
BEGIN:STANDARD
DTSTART:19390101T000000
TZOFFSETFROM:+0000
TZOFFSETTO:+0000
TZNAME:GMT
END:STANDARD
END:VTIMEZONE
BEGIN:VEVENT
DTSTART;VALUE=DATE:20090418
DTEND;VALUE=DATE:20090419
LOCATION:PRAHA
TRANSP:OPAQUE
SEQUENCE:0
UID:pical060-028360040949ca4f4e1687bf42c1af32
DTSTAMP:20090312T111912Z
CATEGORIES:
DESCRIPTION:ČESKÁ TELEVIZE
SUMMARY:POŠTA PRO TEBE - ČT
PRIORITY:0
CLASS:PUBLIC
END:VEVENT
END:VCALENDAR
