BEGIN:VCALENDAR
CALSCALE:GREGORIAN
X-WR-TIMEZONE;VALUE=TEXT:GMT
PRODID:PEAK Corporation - piCal -
X-WR-CALNAME;VALUE=TEXT:EVA A VAŠEK
VERSION:2.0
METHOD:PUBLISH
BEGIN:VTIMEZONE
TZID:GMT
BEGIN:STANDARD
DTSTART:19390101T000000
TZOFFSETFROM:+0000
TZOFFSETTO:+0000
TZNAME:GMT
END:STANDARD
END:VTIMEZONE
BEGIN:VEVENT
DTSTART:20090417T050000Z
DTEND:20090417T225500Z
LOCATION:Kotvrdovice, Blansko
TRANSP:OPAQUE
SEQUENCE:0
UID:pical060-457f05b8bbcf161cbd53113269fb2e31
DTSTAMP:20090210T183304Z
CATEGORIES:
DESCRIPTION:EVA A VAŠEK - Kotvrdovice - 3 hodinový program v Hospůdce v Kotvrdovicích, prohlídka renesančního zámku v Blansku.
SUMMARY:EVA A VAŠEK
PRIORITY:0
CLASS:PUBLIC
END:VEVENT
END:VCALENDAR
