BEGIN:VCALENDAR
CALSCALE:GREGORIAN
X-WR-TIMEZONE;VALUE=TEXT:GMT
PRODID:PEAK Corporation - piCal -
X-WR-CALNAME;VALUE=TEXT:Hradec Králové
VERSION:2.0
METHOD:PUBLISH
BEGIN:VTIMEZONE
TZID:GMT
BEGIN:STANDARD
DTSTART:19390101T000000
TZOFFSETFROM:+0000
TZOFFSETTO:+0000
TZNAME:GMT
END:STANDARD
END:VTIMEZONE
BEGIN:VEVENT
DTSTART:20090325T060000Z
DTEND:20090325T225000Z
LOCATION:Hradec Králové
TRANSP:OPAQUE
SEQUENCE:0
UID:pical060-9c38f97da957441a8f841bb21231a377
DTSTAMP:20090210T182446Z
CATEGORIES:
DESCRIPTION:PETROV - exkurze\nHVĚZDÁRNA A PLANETÁRIUM HK\nGOTHARD - vrch u Hořic, města soch
SUMMARY:Hradec Králové
PRIORITY:0
CLASS:PUBLIC
END:VEVENT
END:VCALENDAR
