BEGIN:VCALENDAR
CALSCALE:GREGORIAN
X-WR-TIMEZONE;VALUE=TEXT:GMT
PRODID:PEAK Corporation - piCal -
X-WR-CALNAME;VALUE=TEXT:Pozvánka na výroční členskou schůzi
VERSION:2.0
METHOD:PUBLISH
BEGIN:VTIMEZONE
TZID:GMT
BEGIN:STANDARD
DTSTART:19390101T000000
TZOFFSETFROM:+0000
TZOFFSETTO:+0000
TZNAME:GMT
END:STANDARD
END:VTIMEZONE
BEGIN:VEVENT
DTSTART:20090420T140000Z
DTEND:20090420T160000Z
LOCATION:Mladá Boleslav
TRANSP:OPAQUE
SEQUENCE:5
UID:pical060-b1269886bebae0e5bce571cb67b77082
DTSTAMP:20090205T093116Z
CATEGORIES:Aktuální akce
DESCRIPTION:Schůze se koná ve velkém sále Kulturního domu.\nZačátek schůze je v 15.00 hodin a předpokládaný konec v 17.00 hodin.\n\nProgram:\nZahájení\nZpráva o činnosti základní organizace za rok 2008\nZpráva o hospodaření základní organizace za rok 2008\nZpráva revizní komise\nVystoupení hostí\nDiskuze\nObčerstvení\n\nVýbor ZO SPCCH Mladá Boleslav\nZdeňka Bázlerová
SUMMARY:Pozvánka na výroční členskou schůzi
PRIORITY:0
CLASS:PUBLIC
END:VEVENT
END:VCALENDAR
